Package: TSCAN Version: 1.30.0 Command: C:\Users\biocbuild\bbs-3.13-bioc\R\bin\R.exe CMD check --force-multiarch --install=check:TSCAN.install-out.txt --library=C:\Users\biocbuild\bbs-3.13-bioc\R\library --no-vignettes --timings TSCAN_1.30.0.tar.gz StartedAt: 2021-10-15 07:00:06 -0400 (Fri, 15 Oct 2021) EndedAt: 2021-10-15 07:05:36 -0400 (Fri, 15 Oct 2021) EllapsedTime: 330.0 seconds RetCode: 0 Status: WARNINGS CheckDir: TSCAN.Rcheck Warnings: 1