Package: TSRchitect Version: 1.18.0 Command: C:\Users\biocbuild\bbs-3.13-bioc\R\bin\R.exe CMD check --force-multiarch --install=check:TSRchitect.install-out.txt --library=C:\Users\biocbuild\bbs-3.13-bioc\R\library --no-vignettes --timings TSRchitect_1.18.0.tar.gz StartedAt: 2021-10-15 07:01:26 -0400 (Fri, 15 Oct 2021) EndedAt: 2021-10-15 07:06:21 -0400 (Fri, 15 Oct 2021) EllapsedTime: 295.2 seconds RetCode: 0 Status: WARNINGS CheckDir: TSRchitect.Rcheck Warnings: 3