Package: TSRchitect Version: 1.18.0 Command: C:\cygwin\bin\curl.exe -O http://155.52.207.165/BBS/3.13/bioc/src/contrib/TSRchitect_1.18.0.tar.gz && rm -rf TSRchitect.buildbin-libdir && mkdir TSRchitect.buildbin-libdir && C:\Users\biocbuild\bbs-3.13-bioc\R\bin\R.exe CMD INSTALL --merge-multiarch --build --library=TSRchitect.buildbin-libdir TSRchitect_1.18.0.tar.gz && C:\Users\biocbuild\bbs-3.13-bioc\R\bin\R.exe CMD INSTALL TSRchitect_1.18.0.zip && rm TSRchitect_1.18.0.tar.gz TSRchitect_1.18.0.zip StartedAt: 2021-10-14 10:10:48 -0400 (Thu, 14 Oct 2021) EndedAt: 2021-10-14 10:12:15 -0400 (Thu, 14 Oct 2021) EllapsedTime: 87.4 seconds RetCode: 0 Status: OK