Package: TVTB Version: 1.18.0 Command: rm -rf TVTB.buildbin-libdir && mkdir TVTB.buildbin-libdir && /Users/biocbuild/BBS/utils/build-universal.sh TVTB_1.18.0.tar.gz /Library/Frameworks/R.framework/Versions/Current/Resources/bin/R TVTB.buildbin-libdir StartedAt: 2021-10-15 04:18:55 -0400 (Fri, 15 Oct 2021) EndedAt: 2021-10-15 04:20:06 -0400 (Fri, 15 Oct 2021) EllapsedTime: 71.1 seconds RetCode: 0 Status: OK PackageFile: TVTB_1.18.0.tgz PackageFileSize: 2.68 MiB