Package: TVTB Version: 1.18.0 Command: /home/biocbuild/bbs-3.13-bioc/R/bin/R CMD check --install=check:TVTB.install-out.txt --library=/home/biocbuild/bbs-3.13-bioc/R/library --no-vignettes --timings TVTB_1.18.0.tar.gz StartedAt: 2021-10-14 11:57:34 -0400 (Thu, 14 Oct 2021) EndedAt: 2021-10-14 12:04:09 -0400 (Thu, 14 Oct 2021) EllapsedTime: 394.9 seconds RetCode: 0 Status: OK CheckDir: TVTB.Rcheck Warnings: 0