Package: TimeSeriesExperiment Version: 1.10.1 Command: /home/biocbuild/bbs-3.13-bioc/R/bin/R CMD check --install=check:TimeSeriesExperiment.install-out.txt --library=/home/biocbuild/bbs-3.13-bioc/R/library --no-vignettes --timings TimeSeriesExperiment_1.10.1.tar.gz StartedAt: 2021-10-14 11:52:00 -0400 (Thu, 14 Oct 2021) EndedAt: 2021-10-14 11:55:30 -0400 (Thu, 14 Oct 2021) EllapsedTime: 210.8 seconds RetCode: 0 Status: OK CheckDir: TimeSeriesExperiment.Rcheck Warnings: 0