Package: TimeSeriesExperiment Version: 1.10.1 Command: /home/biocbuild/bbs-3.13-bioc/R/bin/R CMD INSTALL TimeSeriesExperiment StartedAt: 2021-10-14 06:22:07 -0400 (Thu, 14 Oct 2021) EndedAt: 2021-10-14 06:22:39 -0400 (Thu, 14 Oct 2021) EllapsedTime: 31.8 seconds RetCode: 0 Status: OK