Package: TimeSeriesExperiment Version: 1.10.1 Command: rm -rf TimeSeriesExperiment.buildbin-libdir && mkdir TimeSeriesExperiment.buildbin-libdir && C:\Users\biocbuild\bbs-3.13-bioc\R\bin\R.exe CMD INSTALL --merge-multiarch --build --library=TimeSeriesExperiment.buildbin-libdir TimeSeriesExperiment_1.10.1.tar.gz StartedAt: 2021-10-15 12:11:52 -0400 (Fri, 15 Oct 2021) EndedAt: 2021-10-15 12:13:23 -0400 (Fri, 15 Oct 2021) EllapsedTime: 90.8 seconds RetCode: 0 Status: OK PackageFile: TimeSeriesExperiment_1.10.1.zip PackageFileSize: 885.2 KiB