Package: TimeSeriesExperiment Version: 1.10.1 Command: C:\Users\biocbuild\bbs-3.13-bioc\R\bin\R.exe CMD check --force-multiarch --install=check:TimeSeriesExperiment.install-out.txt --library=C:\Users\biocbuild\bbs-3.13-bioc\R\library --no-vignettes --timings TimeSeriesExperiment_1.10.1.tar.gz StartedAt: 2021-10-15 06:40:41 -0400 (Fri, 15 Oct 2021) EndedAt: 2021-10-15 06:46:02 -0400 (Fri, 15 Oct 2021) EllapsedTime: 321.0 seconds RetCode: 0 Status: OK CheckDir: TimeSeriesExperiment.Rcheck Warnings: 0