Package: ToPASeq Version: 1.26.0 Command: /home/biocbuild/bbs-3.13-bioc/R/bin/R CMD build --keep-empty-dirs --no-resave-data ToPASeq StartedAt: 2021-10-14 08:35:53 -0400 (Thu, 14 Oct 2021) EndedAt: 2021-10-14 08:38:17 -0400 (Thu, 14 Oct 2021) EllapsedTime: 144.1 seconds RetCode: 1 Status: ERROR PackageFile: None PackageFileSize: NA