Package: ToPASeq Version: 1.26.0 Command: /home/biocbuild/bbs-3.13-bioc/R/bin/R CMD INSTALL ToPASeq StartedAt: 2021-10-14 06:12:24 -0400 (Thu, 14 Oct 2021) EndedAt: 2021-10-14 06:13:17 -0400 (Thu, 14 Oct 2021) EllapsedTime: 52.7 seconds RetCode: 0 Status: OK