Package: ToPASeq Version: 1.26.0 Command: rm -rf ToPASeq.buildbin-libdir && mkdir ToPASeq.buildbin-libdir && C:\Users\biocbuild\bbs-3.13-bioc\R\bin\R.exe CMD INSTALL --merge-multiarch --build --library=ToPASeq.buildbin-libdir ToPASeq_1.26.0.tar.gz StartedAt: 2021-10-15 12:13:40 -0400 (Fri, 15 Oct 2021) EndedAt: 2021-10-15 12:15:12 -0400 (Fri, 15 Oct 2021) EllapsedTime: 92.0 seconds RetCode: 0 Status: OK PackageFile: ToPASeq_1.26.0.zip PackageFileSize: 1.777 MiB