Package: ToPASeq Version: 1.26.0 Command: C:\Users\biocbuild\bbs-3.13-bioc\R\bin\R.exe CMD check --force-multiarch --install=check:ToPASeq.install-out.txt --library=C:\Users\biocbuild\bbs-3.13-bioc\R\library --no-vignettes --timings ToPASeq_1.26.0.tar.gz StartedAt: 2021-10-15 06:45:12 -0400 (Fri, 15 Oct 2021) EndedAt: 2021-10-15 06:45:19 -0400 (Fri, 15 Oct 2021) EllapsedTime: 7.9 seconds RetCode: 1 Status: ERROR CheckDir: ToPASeq.Rcheck Warnings: NA