Package: ToxicoGx Version: 1.2.1 Command: rm -rf ToxicoGx.buildbin-libdir && mkdir ToxicoGx.buildbin-libdir && C:\Users\biocbuild\bbs-3.13-bioc\R\bin\R.exe CMD INSTALL --merge-multiarch --build --library=ToxicoGx.buildbin-libdir ToxicoGx_1.2.1.tar.gz StartedAt: 2021-10-15 12:14:14 -0400 (Fri, 15 Oct 2021) EndedAt: 2021-10-15 12:15:46 -0400 (Fri, 15 Oct 2021) EllapsedTime: 92.0 seconds RetCode: 0 Status: OK PackageFile: ToxicoGx_1.2.1.zip PackageFileSize: 4.429 MiB