Package: ToxicoGx Version: 1.2.1 Command: chmod a+r ToxicoGx -R && C:\Users\biocbuild\bbs-3.13-bioc\R\bin\R.exe CMD build --keep-empty-dirs --no-resave-data ToxicoGx StartedAt: 2021-10-14 18:50:45 -0400 (Thu, 14 Oct 2021) EndedAt: 2021-10-14 18:51:53 -0400 (Thu, 14 Oct 2021) EllapsedTime: 68.9 seconds RetCode: 0 Status: OK PackageFile: ToxicoGx_1.2.1.tar.gz PackageFileSize: 4.224 MiB