Package: TrajectoryUtils Version: 1.0.0 Command: chmod a+r TrajectoryUtils -R && C:\Users\biocbuild\bbs-3.13-bioc\R\bin\R.exe CMD build --keep-empty-dirs --no-resave-data TrajectoryUtils StartedAt: 2021-10-14 18:52:02 -0400 (Thu, 14 Oct 2021) EndedAt: 2021-10-14 18:52:40 -0400 (Thu, 14 Oct 2021) EllapsedTime: 37.8 seconds RetCode: 0 Status: OK PackageFile: TrajectoryUtils_1.0.0.tar.gz PackageFileSize: 307.9 KiB