git_url: https://git.bioconductor.org/packages/TransView git_branch: RELEASE_3_13 git_last_commit: f763b52 git_last_commit_date: 2021-05-19 11:54:27 -0400 (Wed, 19 May 2021) Package: TransView Version: 1.36.0 Maintainer: Julius Muller MaintainerEmail: ju-mu at alumni.ethz.ch