Package: TreeSummarizedExperiment Version: 2.0.3 Command: rm -rf TreeSummarizedExperiment.buildbin-libdir && mkdir TreeSummarizedExperiment.buildbin-libdir && /Users/biocbuild/BBS/utils/build-universal.sh TreeSummarizedExperiment_2.0.3.tar.gz /Library/Frameworks/R.framework/Versions/Current/Resources/bin/R TreeSummarizedExperiment.buildbin-libdir StartedAt: 2021-10-15 04:17:23 -0400 (Fri, 15 Oct 2021) EndedAt: 2021-10-15 04:18:34 -0400 (Fri, 15 Oct 2021) EllapsedTime: 70.7 seconds RetCode: 0 Status: OK PackageFile: TreeSummarizedExperiment_2.0.3.tgz PackageFileSize: 1.857 MiB