Package: TreeSummarizedExperiment Version: 2.0.3 Command: /home/biocbuild/bbs-3.13-bioc/R/bin/R CMD check --install=check:TreeSummarizedExperiment.install-out.txt --library=/home/biocbuild/bbs-3.13-bioc/R/library --no-vignettes --timings TreeSummarizedExperiment_2.0.3.tar.gz StartedAt: 2021-10-14 11:56:02 -0400 (Thu, 14 Oct 2021) EndedAt: 2021-10-14 12:01:42 -0400 (Thu, 14 Oct 2021) EllapsedTime: 340.1 seconds RetCode: 0 Status: OK CheckDir: TreeSummarizedExperiment.Rcheck Warnings: 0