Package: TurboNorm Version: 1.40.0 Command: /Library/Frameworks/R.framework/Versions/Current/Resources/bin/R CMD check --install=check:TurboNorm.install-out.txt --library=/Library/Frameworks/R.framework/Versions/Current/Resources/library --no-vignettes --timings TurboNorm_1.40.0.tar.gz StartedAt: 2021-10-15 01:01:23 -0400 (Fri, 15 Oct 2021) EndedAt: 2021-10-15 01:02:54 -0400 (Fri, 15 Oct 2021) EllapsedTime: 90.7 seconds RetCode: 0 Status: OK CheckDir: TurboNorm.Rcheck Warnings: 0