Package: UMI4Cats Version: 1.2.1 Command: /Library/Frameworks/R.framework/Versions/Current/Resources/bin/R CMD INSTALL UMI4Cats StartedAt: 2021-10-14 10:21:23 -0400 (Thu, 14 Oct 2021) EndedAt: 2021-10-14 10:22:09 -0400 (Thu, 14 Oct 2021) EllapsedTime: 45.4 seconds RetCode: 0 Status: OK