Package: UMI4Cats Version: 1.2.1 Command: /home/biocbuild/bbs-3.13-bioc/R/bin/R CMD check --install=check:UMI4Cats.install-out.txt --library=/home/biocbuild/bbs-3.13-bioc/R/library --no-vignettes --timings UMI4Cats_1.2.1.tar.gz StartedAt: 2021-10-14 11:58:56 -0400 (Thu, 14 Oct 2021) EndedAt: 2021-10-14 12:04:05 -0400 (Thu, 14 Oct 2021) EllapsedTime: 309.5 seconds RetCode: 0 Status: OK CheckDir: UMI4Cats.Rcheck Warnings: 0