Package: UMI4Cats Version: 1.2.1 Command: /home/biocbuild/bbs-3.13-bioc/R/bin/R CMD INSTALL UMI4Cats StartedAt: 2021-10-14 06:34:37 -0400 (Thu, 14 Oct 2021) EndedAt: 2021-10-14 06:35:11 -0400 (Thu, 14 Oct 2021) EllapsedTime: 34.0 seconds RetCode: 0 Status: OK