Package: Ularcirc Version: 1.10.0 Command: /home/biocbuild/bbs-3.13-bioc/R/bin/R CMD INSTALL Ularcirc StartedAt: 2021-10-14 06:26:53 -0400 (Thu, 14 Oct 2021) EndedAt: 2021-10-14 06:27:02 -0400 (Thu, 14 Oct 2021) EllapsedTime: 9.8 seconds RetCode: 0 Status: OK