Package: Ularcirc Version: 1.10.0 Command: rm -rf Ularcirc.buildbin-libdir && mkdir Ularcirc.buildbin-libdir && C:\Users\biocbuild\bbs-3.13-bioc\R\bin\R.exe CMD INSTALL --merge-multiarch --build --library=Ularcirc.buildbin-libdir Ularcirc_1.10.0.tar.gz StartedAt: 2021-10-15 12:20:03 -0400 (Fri, 15 Oct 2021) EndedAt: 2021-10-15 12:21:32 -0400 (Fri, 15 Oct 2021) EllapsedTime: 89.5 seconds RetCode: 0 Status: OK PackageFile: Ularcirc_1.10.0.zip PackageFileSize: 4.787 MiB