Package: Ularcirc Version: 1.10.0 Command: chmod a+r Ularcirc -R && C:\Users\biocbuild\bbs-3.13-bioc\R\bin\R.exe CMD build --keep-empty-dirs --no-resave-data Ularcirc StartedAt: 2021-10-14 18:59:25 -0400 (Thu, 14 Oct 2021) EndedAt: 2021-10-14 18:59:52 -0400 (Thu, 14 Oct 2021) EllapsedTime: 27.1 seconds RetCode: 0 Status: OK PackageFile: Ularcirc_1.10.0.tar.gz PackageFileSize: 5.178 MiB