Package: Ularcirc Version: 1.10.0 Command: C:\cygwin\bin\curl.exe -O http://155.52.207.165/BBS/3.13/bioc/src/contrib/Ularcirc_1.10.0.tar.gz && rm -rf Ularcirc.buildbin-libdir && mkdir Ularcirc.buildbin-libdir && C:\Users\biocbuild\bbs-3.13-bioc\R\bin\R.exe CMD INSTALL --merge-multiarch --build --library=Ularcirc.buildbin-libdir Ularcirc_1.10.0.tar.gz && C:\Users\biocbuild\bbs-3.13-bioc\R\bin\R.exe CMD INSTALL Ularcirc_1.10.0.zip && rm Ularcirc_1.10.0.tar.gz Ularcirc_1.10.0.zip StartedAt: 2021-10-14 10:38:01 -0400 (Thu, 14 Oct 2021) EndedAt: 2021-10-14 10:38:55 -0400 (Thu, 14 Oct 2021) EllapsedTime: 53.2 seconds RetCode: 0 Status: OK