git_url: https://git.bioconductor.org/packages/Uniquorn git_branch: RELEASE_3_13 git_last_commit: 689be91 git_last_commit_date: 2021-05-19 12:18:31 -0400 (Wed, 19 May 2021) Package: Uniquorn Version: 2.12.0 Maintainer: 'Raik Otto' MaintainerEmail: raik.otto at hu-berlin.de