Package: Uniquorn Version: 2.12.0 Command: rm -rf Uniquorn.buildbin-libdir && mkdir Uniquorn.buildbin-libdir && /Users/biocbuild/BBS/utils/build-universal.sh Uniquorn_2.12.0.tar.gz /Library/Frameworks/R.framework/Versions/Current/Resources/bin/R Uniquorn.buildbin-libdir StartedAt: 2021-10-15 04:20:06 -0400 (Fri, 15 Oct 2021) EndedAt: 2021-10-15 04:21:15 -0400 (Fri, 15 Oct 2021) EllapsedTime: 69.1 seconds RetCode: 0 Status: OK PackageFile: Uniquorn_2.12.0.tgz PackageFileSize: 2.316 MiB