Package: Uniquorn Version: 2.12.0 Command: chmod a+r Uniquorn -R && C:\Users\biocbuild\bbs-3.13-bioc\R\bin\R.exe CMD build --keep-empty-dirs --no-resave-data Uniquorn StartedAt: 2021-10-14 19:01:04 -0400 (Thu, 14 Oct 2021) EndedAt: 2021-10-14 19:02:13 -0400 (Thu, 14 Oct 2021) EllapsedTime: 69.5 seconds RetCode: 0 Status: OK PackageFile: Uniquorn_2.12.0.tar.gz PackageFileSize: 2.195 MiB