Package: VERSO Version: 1.2.0 Command: rm -rf VERSO.buildbin-libdir && mkdir VERSO.buildbin-libdir && /Users/biocbuild/BBS/utils/build-universal.sh VERSO_1.2.0.tar.gz /Library/Frameworks/R.framework/Versions/Current/Resources/bin/R VERSO.buildbin-libdir StartedAt: 2021-10-15 04:21:32 -0400 (Fri, 15 Oct 2021) EndedAt: 2021-10-15 04:22:31 -0400 (Fri, 15 Oct 2021) EllapsedTime: 59.2 seconds RetCode: 0 Status: OK PackageFile: VERSO_1.2.0.tgz PackageFileSize: 208.2 KiB