git_url: https://git.bioconductor.org/packages/VanillaICE git_branch: RELEASE_3_13 git_last_commit: 5c4c822 git_last_commit_date: 2021-05-19 11:39:40 -0400 (Wed, 19 May 2021) Package: VanillaICE Version: 1.54.0 Maintainer: Robert Scharpf MaintainerEmail: rscharpf at jhu.edu