Package: VanillaICE Version: 1.54.0 Command: /Library/Frameworks/R.framework/Versions/Current/Resources/bin/R CMD check --install=check:VanillaICE.install-out.txt --library=/Library/Frameworks/R.framework/Versions/Current/Resources/library --no-vignettes --timings VanillaICE_1.54.0.tar.gz StartedAt: 2021-10-15 01:04:34 -0400 (Fri, 15 Oct 2021) EndedAt: 2021-10-15 01:09:41 -0400 (Fri, 15 Oct 2021) EllapsedTime: 306.7 seconds RetCode: 0 Status: WARNINGS CheckDir: VanillaICE.Rcheck Warnings: 1