Package: VariantAnnotation Version: 1.38.0 Command: /Library/Frameworks/R.framework/Versions/Current/Resources/bin/R CMD check --install=check:VariantAnnotation.install-out.txt --library=/Library/Frameworks/R.framework/Versions/Current/Resources/library --no-vignettes --timings VariantAnnotation_1.38.0.tar.gz StartedAt: 2021-10-15 01:05:03 -0400 (Fri, 15 Oct 2021) EndedAt: 2021-10-15 01:15:46 -0400 (Fri, 15 Oct 2021) EllapsedTime: 643.4 seconds RetCode: 0 Status: OK CheckDir: VariantAnnotation.Rcheck Warnings: 0