Package: VariantAnnotation Version: 1.38.0 Command: /Library/Frameworks/R.framework/Versions/Current/Resources/bin/R CMD INSTALL VariantAnnotation StartedAt: 2021-10-14 09:54:19 -0400 (Thu, 14 Oct 2021) EndedAt: 2021-10-14 09:55:45 -0400 (Thu, 14 Oct 2021) EllapsedTime: 85.8 seconds RetCode: 0 Status: OK