Package: VariantAnnotation Version: 1.38.0 Command: /home/biocbuild/bbs-3.13-bioc/R/bin/R CMD INSTALL VariantAnnotation StartedAt: 2021-10-14 06:23:58 -0400 (Thu, 14 Oct 2021) EndedAt: 2021-10-14 06:25:03 -0400 (Thu, 14 Oct 2021) EllapsedTime: 64.4 seconds RetCode: 0 Status: OK