Package: VariantAnnotation Version: 1.38.0 Command: rm -rf VariantAnnotation.buildbin-libdir && mkdir VariantAnnotation.buildbin-libdir && C:\Users\biocbuild\bbs-3.13-bioc\R\bin\R.exe CMD INSTALL --merge-multiarch --build --library=VariantAnnotation.buildbin-libdir VariantAnnotation_1.38.0.tar.gz StartedAt: 2021-10-15 12:21:32 -0400 (Fri, 15 Oct 2021) EndedAt: 2021-10-15 12:24:12 -0400 (Fri, 15 Oct 2021) EllapsedTime: 159.6 seconds RetCode: 0 Status: OK PackageFile: VariantAnnotation_1.38.0.zip PackageFileSize: 5.977 MiB