Package: VariantAnnotation Version: 1.38.0 Command: chmod a+r VariantAnnotation -R && C:\Users\biocbuild\bbs-3.13-bioc\R\bin\R.exe CMD build --keep-empty-dirs --no-resave-data VariantAnnotation StartedAt: 2021-10-14 19:02:21 -0400 (Thu, 14 Oct 2021) EndedAt: 2021-10-14 19:06:04 -0400 (Thu, 14 Oct 2021) EllapsedTime: 222.8 seconds RetCode: 0 Status: OK PackageFile: VariantAnnotation_1.38.0.tar.gz PackageFileSize: 1.65 MiB