Package: VariantAnnotation Version: 1.38.0 Command: C:\Users\biocbuild\bbs-3.13-bioc\R\bin\R.exe CMD check --force-multiarch --install=check:VariantAnnotation.install-out.txt --library=C:\Users\biocbuild\bbs-3.13-bioc\R\library --no-vignettes --timings VariantAnnotation_1.38.0.tar.gz StartedAt: 2021-10-15 07:07:05 -0400 (Fri, 15 Oct 2021) EndedAt: 2021-10-15 07:26:49 -0400 (Fri, 15 Oct 2021) EllapsedTime: 1184.1 seconds RetCode: 0 Status: OK CheckDir: VariantAnnotation.Rcheck Warnings: 0