git_url: https://git.bioconductor.org/packages/VariantFiltering git_branch: RELEASE_3_13 git_last_commit: a7b2d16 git_last_commit_date: 2021-05-19 12:04:28 -0400 (Wed, 19 May 2021) Package: VariantFiltering Version: 1.28.0 Maintainer: Robert Castelo MaintainerEmail: robert.castelo at upf.edu