git_url: https://git.bioconductor.org/packages/VegaMC git_branch: RELEASE_3_13 git_last_commit: 37e7f4f git_last_commit_date: 2021-05-19 11:51:55 -0400 (Wed, 19 May 2021) Package: VegaMC Version: 3.30.0 Maintainer: Sandro Morganella MaintainerEmail: morganellaalx at gmail.com