Package: VegaMC Version: 3.30.0 Command: rm -rf VegaMC.buildbin-libdir && mkdir VegaMC.buildbin-libdir && C:\Users\biocbuild\bbs-3.13-bioc\R\bin\R.exe CMD INSTALL --merge-multiarch --build --library=VegaMC.buildbin-libdir VegaMC_3.30.0.tar.gz StartedAt: 2021-10-15 12:22:30 -0400 (Fri, 15 Oct 2021) EndedAt: 2021-10-15 12:23:39 -0400 (Fri, 15 Oct 2021) EllapsedTime: 68.3 seconds RetCode: 0 Status: OK PackageFile: VegaMC_3.30.0.zip PackageFileSize: 1.768 MiB