Package: VegaMC Version: 3.30.0 Command: chmod a+r VegaMC -R && C:\Users\biocbuild\bbs-3.13-bioc\R\bin\R.exe CMD build --keep-empty-dirs --no-resave-data VegaMC StartedAt: 2021-10-14 19:04:22 -0400 (Thu, 14 Oct 2021) EndedAt: 2021-10-14 19:05:06 -0400 (Thu, 14 Oct 2021) EllapsedTime: 44.2 seconds RetCode: 0 Status: OK PackageFile: VegaMC_3.30.0.tar.gz PackageFileSize: 1.698 MiB