Package: ViSEAGO Version: 1.6.0 Command: C:\Users\biocbuild\bbs-3.13-bioc\R\bin\R.exe CMD check --force-multiarch --install=check:ViSEAGO.install-out.txt --library=C:\Users\biocbuild\bbs-3.13-bioc\R\library --no-vignettes --timings ViSEAGO_1.6.0.tar.gz StartedAt: 2021-10-15 07:13:10 -0400 (Fri, 15 Oct 2021) EndedAt: 2021-10-15 07:17:38 -0400 (Fri, 15 Oct 2021) EllapsedTime: 267.3 seconds RetCode: 0 Status: WARNINGS CheckDir: ViSEAGO.Rcheck Warnings: 3