Package: XNAString Version: 1.0.2 Command: /home/biocbuild/bbs-3.13-bioc/R/bin/R CMD build --keep-empty-dirs --no-resave-data XNAString StartedAt: 2021-10-14 08:41:49 -0400 (Thu, 14 Oct 2021) EndedAt: 2021-10-14 08:43:42 -0400 (Thu, 14 Oct 2021) EllapsedTime: 112.5 seconds RetCode: 0 Status: OK PackageFile: XNAString_1.0.2.tar.gz PackageFileSize: 1.611 MiB