Package: XNAString Version: 1.0.2 Command: /home/biocbuild/bbs-3.13-bioc/R/bin/R CMD INSTALL XNAString StartedAt: 2021-10-14 06:23:38 -0400 (Thu, 14 Oct 2021) EndedAt: 2021-10-14 06:25:16 -0400 (Thu, 14 Oct 2021) EllapsedTime: 97.8 seconds RetCode: 0 Status: OK