Package: a4 Version: 1.40.0 Command: rm -rf a4.buildbin-libdir && mkdir a4.buildbin-libdir && /Users/biocbuild/BBS/utils/build-universal.sh a4_1.40.0.tar.gz /Library/Frameworks/R.framework/Versions/Current/Resources/bin/R a4.buildbin-libdir StartedAt: 2021-10-15 01:30:38 -0400 (Fri, 15 Oct 2021) EndedAt: 2021-10-15 01:31:10 -0400 (Fri, 15 Oct 2021) EllapsedTime: 32.0 seconds RetCode: 0 Status: OK PackageFile: a4_1.40.0.tgz PackageFileSize: 1.117 MiB