git_url: https://git.bioconductor.org/packages/a4Preproc git_branch: RELEASE_3_13 git_last_commit: 0fa3d10 git_last_commit_date: 2021-05-19 11:48:19 -0400 (Wed, 19 May 2021) Package: a4Preproc Version: 1.40.0 Maintainer: Laure Cougnaud MaintainerEmail: laure.cougnaud at openanalytics.eu