Package: a4Preproc Version: 1.40.0 Command: /Library/Frameworks/R.framework/Versions/Current/Resources/bin/R CMD INSTALL a4Preproc StartedAt: 2021-10-14 08:46:11 -0400 (Thu, 14 Oct 2021) EndedAt: 2021-10-14 08:47:04 -0400 (Thu, 14 Oct 2021) EllapsedTime: 53.4 seconds RetCode: 0 Status: OK