Package: a4Preproc Version: 1.40.0 Command: /home/biocbuild/bbs-3.13-bioc/R/bin/R CMD check --install=check:a4Preproc.install-out.txt --library=/home/biocbuild/bbs-3.13-bioc/R/library --no-vignettes --timings a4Preproc_1.40.0.tar.gz StartedAt: 2021-10-14 08:49:31 -0400 (Thu, 14 Oct 2021) EndedAt: 2021-10-14 08:49:57 -0400 (Thu, 14 Oct 2021) EllapsedTime: 26.1 seconds RetCode: 0 Status: OK CheckDir: a4Preproc.Rcheck Warnings: 0